BEGIN:VCALENDAR
VERSION:2.0
PRODID:-//Saalfelden-Leogang.com//NONSGML kigkonsult.se iCalcreator 2.22.1/
 /DE
METHOD:PUBLISH
X-WR-CALNAME;LANGUAGE=de:Saalfelden-Leogang.com
X-WR-CALDESC;LANGUAGE=de:Saalfelden-Leogang.com
X-WR-TIMEZONE;LANGUAGE=de:Europe/Berlin
BEGIN:VEVENT
UID:20260420T023035CEST-0413k9wOvJ@Saalfelden-Leogang.com
DTSTAMP:20260420T003035Z
DESCRIPTION;LANGUAGE=de:In unmittelbaren Nähe befindet sich eines der bedeu
 tendsten Museen Europas. Tauche ein in die faszinierende Welt des Bergbau-
  und Gotikmuseums Leogang und genieße einen inspirierenden Spaziergang dur
 ch unsere einzigartige Kulturlandschaft. Einer unserer erfahrenen Mitarbei
 ter begleitet persönlich durch die Ausstellung und eröffnet spannende Einb
 licke in unsere wertvollen Sammlungen und beeindruckenden Exponate. \n\nFr
 eitag\, 11.00 h\n\nTreffpunkt: Bergbau- und Gothikmuseum\, Leogang\n\nDaue
 r: ca. 1 Stunde\n\nKosten: mit der Saalfelden Leogang Card 10\,- Euro pro 
 Person \, ohne Saalfelden Leogang Card 20\,- Euro pro Person\n\nAnmeldung:
  bis zum Vortag 16.00 h direkt unter info@museum-leogang.at oder +43 6583 
 7105
DTSTART:20261030T100000Z
DTEND:20261030T110000Z
LOCATION;LANGUAGE=de:Bergbau- und Gothikmuseum Leogang
SUMMARY;LANGUAGE=de:Spaziergang durch die Kulturlandschaft
END:VEVENT
END:VCALENDAR
